Package: FieldEffectCrc Version: 1.20.0 Command: /home/biocbuild/bbs-3.22-bioc/R/bin/R CMD INSTALL FieldEffectCrc StartedAt: 2025-11-25 11:00:07 -0500 (Tue, 25 Nov 2025) EndedAt: 2025-11-25 11:00:36 -0500 (Tue, 25 Nov 2025) EllapsedTime: 29.1 seconds RetCode: 0 Status: OK