Package: EatonEtAlChIPseq Version: 0.48.0 Command: /home/biocbuild/bbs-3.22-bioc/R/bin/R CMD INSTALL EatonEtAlChIPseq StartedAt: 2025-11-25 11:01:00 -0500 (Tue, 25 Nov 2025) EndedAt: 2025-11-25 11:01:22 -0500 (Tue, 25 Nov 2025) EllapsedTime: 22.0 seconds RetCode: 0 Status: OK