Package: DoReMiTra Version: 1.0.0 Command: /home/biocbuild/bbs-3.22-bioc/R/bin/R CMD INSTALL DoReMiTra StartedAt: 2025-11-25 11:02:07 -0500 (Tue, 25 Nov 2025) EndedAt: 2025-11-25 11:02:33 -0500 (Tue, 25 Nov 2025) EllapsedTime: 26.4 seconds RetCode: 0 Status: OK