Package: CellMapperData Version: 1.36.0 Maintainer: Brad Nelms MaintainerEmail: bnelms.research at gmail.com git_url: https://git.bioconductor.org/packages/CellMapperData git_branch: RELEASE_3_22 git_last_commit: 7ef858f git_last_commit_date: 2025-10-29 09:58:55 -0500 (Wed, 29 Oct 2025)