Package: CardinalWorkflows Version: 1.42.0 Command: /home/biocbuild/bbs-3.22-bioc/R/bin/R CMD INSTALL CardinalWorkflows StartedAt: 2025-11-25 10:57:55 -0500 (Tue, 25 Nov 2025) EndedAt: 2025-11-25 10:58:08 -0500 (Tue, 25 Nov 2025) EllapsedTime: 13.3 seconds RetCode: 0 Status: OK