Package: CardinalWorkflows Version: 1.42.0 Maintainer: Kylie A. Bemis MaintainerEmail: k.bemis at northeastern.edu git_url: https://git.bioconductor.org/packages/CardinalWorkflows git_branch: RELEASE_3_22 git_last_commit: d7ae39f git_last_commit_date: 2025-10-29 09:56:07 -0500 (Wed, 29 Oct 2025)