Package: COSMIC.67 Version: 1.46.0 Command: /home/biocbuild/bbs-3.22-bioc/R/bin/R CMD INSTALL COSMIC.67 StartedAt: 2025-11-27 11:05:00 -0500 (Thu, 27 Nov 2025) EndedAt: 2025-11-27 11:05:42 -0500 (Thu, 27 Nov 2025) EllapsedTime: 41.9 seconds RetCode: 0 Status: OK