Package: CCl4 Version: 1.48.0 Command: /home/biocbuild/bbs-3.22-bioc/R/bin/R CMD INSTALL CCl4 StartedAt: 2025-11-25 10:56:19 -0500 (Tue, 25 Nov 2025) EndedAt: 2025-11-25 10:56:24 -0500 (Tue, 25 Nov 2025) EllapsedTime: 4.5 seconds RetCode: 0 Status: OK