Package: BioPlex Version: 1.16.0 Command: /home/biocbuild/bbs-3.22-bioc/R/bin/R CMD INSTALL BioPlex StartedAt: 2025-11-25 10:58:39 -0500 (Tue, 25 Nov 2025) EndedAt: 2025-11-25 10:58:58 -0500 (Tue, 25 Nov 2025) EllapsedTime: 19.5 seconds RetCode: 0 Status: OK