Package: BeadArrayUseCases Version: 1.48.0 Maintainer: Mike Smith MaintainerEmail: grimbough at gmail.com git_url: https://git.bioconductor.org/packages/BeadArrayUseCases git_branch: RELEASE_3_22 git_last_commit: fafd6ff git_last_commit_date: 2025-10-29 09:32:55 -0500 (Wed, 29 Oct 2025)