Package: ALLMLL Version: 1.50.0 Command: /home/biocbuild/bbs-3.22-bioc/R/bin/R CMD INSTALL ALLMLL StartedAt: 2025-11-25 10:56:22 -0500 (Tue, 25 Nov 2025) EndedAt: 2025-11-25 10:56:27 -0500 (Tue, 25 Nov 2025) EllapsedTime: 5.2 seconds RetCode: 0 Status: OK