Package: ALLMLL Version: 1.50.0 Command: /home/biocbuild/bbs-3.22-bioc/R/bin/R CMD build --keep-empty-dirs --no-resave-data ALLMLL StartedAt: 2025-11-25 11:07:25 -0500 (Tue, 25 Nov 2025) EndedAt: 2025-11-25 11:07:31 -0500 (Tue, 25 Nov 2025) EllapsedTime: 5.9 seconds RetCode: 0 Status: OK PackageFile: ALLMLL_1.50.0.tar.gz PackageFileSize: 25.62 MiB