Package: ChIPexoQualExample Version: 1.32.0 Command: /home/biocbuild/bbs-3.21-bioc/R/bin/R CMD build --keep-empty-dirs --no-resave-data ChIPexoQualExample StartedAt: 2025-10-16 11:08:29 -0400 (Thu, 16 Oct 2025) EndedAt: 2025-10-16 11:08:43 -0400 (Thu, 16 Oct 2025) EllapsedTime: 13.7 seconds RetCode: 0 Status: OK PackageFile: ChIPexoQualExample_1.32.0.tar.gz PackageFileSize: 152.3 MiB