Package: CellMapperData Version: 1.34.0 Command: /home/biocbuild/bbs-3.21-bioc/R/bin/R CMD INSTALL CellMapperData StartedAt: 2025-10-16 10:57:33 -0400 (Thu, 16 Oct 2025) EndedAt: 2025-10-16 10:57:43 -0400 (Thu, 16 Oct 2025) EllapsedTime: 9.4 seconds RetCode: 0 Status: OK