Package: yeastExpData Version: 0.56.0 Command: /home/biocbuild/bbs-3.22-bioc/R/bin/R CMD INSTALL yeastExpData StartedAt: 2025-11-13 10:56:25 -0500 (Thu, 13 Nov 2025) EndedAt: 2025-11-13 10:56:27 -0500 (Thu, 13 Nov 2025) EllapsedTime: 2.0 seconds RetCode: 0 Status: OK