Package: timecoursedata Version: 1.20.0 Command: /home/biocbuild/bbs-3.22-bioc/R/bin/R CMD INSTALL timecoursedata StartedAt: 2025-11-20 11:01:09 -0500 (Thu, 20 Nov 2025) EndedAt: 2025-11-20 11:01:37 -0500 (Thu, 20 Nov 2025) EllapsedTime: 28.1 seconds RetCode: 0 Status: OK