Package: stemHypoxia Version: 1.46.0 Command: /home/biocbuild/bbs-3.22-bioc/R/bin/R CMD INSTALL stemHypoxia StartedAt: 2025-11-18 10:56:13 -0500 (Tue, 18 Nov 2025) EndedAt: 2025-11-18 10:56:15 -0500 (Tue, 18 Nov 2025) EllapsedTime: 1.9 seconds RetCode: 0 Status: OK