Package: spatialLIBD Version: 1.22.0 Command: /home/biocbuild/bbs-3.22-bioc/R/bin/R CMD build --keep-empty-dirs --no-resave-data spatialLIBD StartedAt: 2025-11-13 11:44:28 -0500 (Thu, 13 Nov 2025) EndedAt: 2025-11-13 11:49:39 -0500 (Thu, 13 Nov 2025) EllapsedTime: 311.1 seconds RetCode: 0 Status: OK PackageFile: spatialLIBD_1.22.0.tar.gz PackageFileSize: 19.89 MiB