Package: spatialLIBD Version: 1.20.1 Command: /home/biocbuild/bbs-3.21-bioc/R/bin/R CMD INSTALL spatialLIBD StartedAt: 2025-10-16 11:03:20 -0400 (Thu, 16 Oct 2025) EndedAt: 2025-10-16 11:04:08 -0400 (Thu, 16 Oct 2025) EllapsedTime: 47.3 seconds RetCode: 0 Status: OK