Package: spatialDmelxsim Version: 1.14.0 Command: /home/biocbuild/bbs-3.21-bioc/R/bin/R CMD build --keep-empty-dirs --no-resave-data spatialDmelxsim StartedAt: 2025-10-16 11:40:22 -0400 (Thu, 16 Oct 2025) EndedAt: 2025-10-16 11:41:09 -0400 (Thu, 16 Oct 2025) EllapsedTime: 46.7 seconds RetCode: 0 Status: OK PackageFile: spatialDmelxsim_1.14.0.tar.gz PackageFileSize: 890.7 KiB