Package: spatialDmelxsim
Version: 1.14.0
Maintainer: Michael Love
MaintainerEmail: michaelisaiahlove at gmail.com
git_url: https://git.bioconductor.org/packages/spatialDmelxsim
git_branch: RELEASE_3_21
git_last_commit: 381ea05
git_last_commit_date: 2025-04-15 10:21:21 -0400 (Tue, 15 Apr 2025)