Package: signatureSearchData Version: 1.24.0 Command: /home/biocbuild/bbs-3.22-bioc/R/bin/R CMD build --keep-empty-dirs --no-resave-data signatureSearchData StartedAt: 2025-11-13 11:43:37 -0500 (Thu, 13 Nov 2025) EndedAt: 2025-11-13 11:43:52 -0500 (Thu, 13 Nov 2025) EllapsedTime: 15.0 seconds RetCode: 0 Status: OK PackageFile: signatureSearchData_1.24.0.tar.gz PackageFileSize: 656.8 KiB