Package: shinyMethylData Version: 1.30.0 Command: /home/biocbuild/bbs-3.22-bioc/R/bin/R CMD build --keep-empty-dirs --no-resave-data shinyMethylData StartedAt: 2025-11-13 11:43:37 -0500 (Thu, 13 Nov 2025) EndedAt: 2025-11-13 11:43:40 -0500 (Thu, 13 Nov 2025) EllapsedTime: 3.5 seconds RetCode: 0 Status: OK PackageFile: shinyMethylData_1.30.0.tar.gz PackageFileSize: 35.58 MiB