Package: seqc Version: 1.44.0 Command: /home/biocbuild/bbs-3.22-bioc/R/bin/R CMD INSTALL seqc StartedAt: 2025-11-13 10:56:06 -0500 (Thu, 13 Nov 2025) EndedAt: 2025-11-13 10:57:58 -0500 (Thu, 13 Nov 2025) EllapsedTime: 112.0 seconds RetCode: 0 Status: OK