Package: seqc Version: 1.44.0 Command: /home/biocbuild/bbs-3.22-bioc/R/bin/R CMD build --keep-empty-dirs --no-resave-data seqc StartedAt: 2025-11-13 11:42:54 -0500 (Thu, 13 Nov 2025) EndedAt: 2025-11-13 11:45:01 -0500 (Thu, 13 Nov 2025) EllapsedTime: 126.1 seconds RetCode: 0 Status: OK PackageFile: seqc_1.44.0.tar.gz PackageFileSize: 179.1 MiB