Package: scpdata Version: 1.18.0 Command: /home/biocbuild/bbs-3.22-bioc/R/bin/R CMD INSTALL scpdata StartedAt: 2025-11-13 10:59:34 -0500 (Thu, 13 Nov 2025) EndedAt: 2025-11-13 11:00:10 -0500 (Thu, 13 Nov 2025) EllapsedTime: 36.3 seconds RetCode: 0 Status: OK