Package: scpdata Version: 1.18.0 Command: /home/biocbuild/bbs-3.22-bioc/R/bin/R CMD build --keep-empty-dirs --no-resave-data scpdata StartedAt: 2025-11-13 11:42:22 -0500 (Thu, 13 Nov 2025) EndedAt: 2025-11-13 11:43:20 -0500 (Thu, 13 Nov 2025) EllapsedTime: 57.5 seconds RetCode: 0 Status: OK PackageFile: scpdata_1.18.0.tar.gz PackageFileSize: 699 KiB