Package: scanMiRData Version: 1.14.0 Command: /home/biocbuild/bbs-3.21-bioc/R/bin/R CMD build --keep-empty-dirs --no-resave-data scanMiRData StartedAt: 2025-05-27 11:37:27 -0400 (Tue, 27 May 2025) EndedAt: 2025-05-27 11:37:55 -0400 (Tue, 27 May 2025) EllapsedTime: 27.7 seconds RetCode: 0 Status: OK PackageFile: scanMiRData_1.14.0.tar.gz PackageFileSize: 16.14 <A href="http://en.wikipedia.org/wiki/MiB" target="_blank">MiB</A>