Package: scaeData Version: 1.6.0 Command: /home/biocbuild/bbs-3.22-bioc/R/bin/R CMD INSTALL scaeData StartedAt: 2025-11-13 10:57:18 -0500 (Thu, 13 Nov 2025) EndedAt: 2025-11-13 10:57:31 -0500 (Thu, 13 Nov 2025) EllapsedTime: 12.8 seconds RetCode: 0 Status: OK