Package: scaeData Version: 1.6.0 Command: /home/biocbuild/bbs-3.22-bioc/R/bin/R CMD build --keep-empty-dirs --no-resave-data scaeData StartedAt: 2025-11-13 11:41:53 -0500 (Thu, 13 Nov 2025) EndedAt: 2025-11-13 11:44:49 -0500 (Thu, 13 Nov 2025) EllapsedTime: 176.7 seconds RetCode: 0 Status: OK PackageFile: scaeData_1.6.0.tar.gz PackageFileSize: 300.9 KiB