Package: scRNAseq Version: 2.24.0 Command: /home/biocbuild/bbs-3.22-bioc/R/bin/R CMD INSTALL scRNAseq StartedAt: 2025-11-13 11:01:03 -0500 (Thu, 13 Nov 2025) EndedAt: 2025-11-13 11:01:46 -0500 (Thu, 13 Nov 2025) EllapsedTime: 43.7 seconds RetCode: 0 Status: OK