Package: scRNAseq Version: 2.24.0 Command: /home/biocbuild/bbs-3.22-bioc/R/bin/R CMD build --keep-empty-dirs --no-resave-data scRNAseq StartedAt: 2025-11-13 11:42:26 -0500 (Thu, 13 Nov 2025) EndedAt: 2025-11-13 11:43:37 -0500 (Thu, 13 Nov 2025) EllapsedTime: 70.7 seconds RetCode: 0 Status: OK PackageFile: scRNAseq_2.24.0.tar.gz PackageFileSize: 304.3 KiB