Package: scMultiome Version: 1.10.0 Command: /home/biocbuild/bbs-3.22-bioc/R/bin/R CMD build --keep-empty-dirs --no-resave-data scMultiome StartedAt: 2025-11-13 11:42:21 -0500 (Thu, 13 Nov 2025) EndedAt: 2025-11-13 11:43:11 -0500 (Thu, 13 Nov 2025) EllapsedTime: 50.2 seconds RetCode: 0 Status: OK PackageFile: scMultiome_1.10.0.tar.gz PackageFileSize: 359.8 KiB