Package: scATAC.Explorer Version: 1.16.0 Command: /home/biocbuild/bbs-3.22-bioc/R/bin/R CMD build --keep-empty-dirs --no-resave-data scATAC.Explorer StartedAt: 2025-11-13 11:42:13 -0500 (Thu, 13 Nov 2025) EndedAt: 2025-11-13 11:42:54 -0500 (Thu, 13 Nov 2025) EllapsedTime: 40.8 seconds RetCode: 0 Status: OK PackageFile: scATAC.Explorer_1.16.0.tar.gz PackageFileSize: 247.8 KiB