Package: sampleClassifierData Version: 1.34.0 Command: /home/biocbuild/bbs-3.22-bioc/R/bin/R CMD build --keep-empty-dirs --no-resave-data sampleClassifierData StartedAt: 2025-11-13 11:41:26 -0500 (Thu, 13 Nov 2025) EndedAt: 2025-11-13 11:41:52 -0500 (Thu, 13 Nov 2025) EllapsedTime: 26.3 seconds RetCode: 0 Status: OK PackageFile: sampleClassifierData_1.34.0.tar.gz PackageFileSize: 15.51 MiB