Package: rcellminerData Version: 2.32.0 Command: /home/biocbuild/bbs-3.22-bioc/R/bin/R CMD build --keep-empty-dirs --no-resave-data rcellminerData StartedAt: 2025-11-13 11:37:56 -0500 (Thu, 13 Nov 2025) EndedAt: 2025-11-13 11:42:27 -0500 (Thu, 13 Nov 2025) EllapsedTime: 271.1 seconds RetCode: 0 Status: OK PackageFile: rcellminerData_2.32.0.tar.gz PackageFileSize: 382 MiB