Package: pumadata Version: 2.46.0 Command: /home/biocbuild/bbs-3.22-bioc/R/bin/R CMD INSTALL pumadata StartedAt: 2025-11-13 11:02:46 -0500 (Thu, 13 Nov 2025) EndedAt: 2025-11-13 11:03:14 -0500 (Thu, 13 Nov 2025) EllapsedTime: 28.7 seconds RetCode: 0 Status: OK