Package: prostateCancerTaylor Version: 1.38.0 Command: /home/biocbuild/bbs-3.22-bioc/R/bin/R CMD build --keep-empty-dirs --no-resave-data prostateCancerTaylor StartedAt: 2025-11-13 11:37:15 -0500 (Thu, 13 Nov 2025) EndedAt: 2025-11-13 11:37:28 -0500 (Thu, 13 Nov 2025) EllapsedTime: 12.7 seconds RetCode: 0 Status: OK PackageFile: prostateCancerTaylor_1.38.0.tar.gz PackageFileSize: 25.77 MiB