Package: plotgardenerData
Version: 1.14.0
Maintainer: Nicole Kramer
MaintainerEmail: nekramer at live.unc.edu
git_url: https://git.bioconductor.org/packages/plotgardenerData
git_branch: RELEASE_3_21
git_last_commit: df1f4e9
git_last_commit_date: 2025-04-15 10:21:30 -0400 (Tue, 15 Apr 2025)