Package: pepDat Version: 1.30.0 Command: /home/biocbuild/bbs-3.22-bioc/R/bin/R CMD build --keep-empty-dirs --no-resave-data pepDat StartedAt: 2025-11-13 11:36:07 -0500 (Thu, 13 Nov 2025) EndedAt: 2025-11-13 11:36:21 -0500 (Thu, 13 Nov 2025) EllapsedTime: 13.7 seconds RetCode: 0 Status: OK PackageFile: pepDat_1.30.0.tar.gz PackageFileSize: 2.66 MiB