Package: pasillaBamSubset Version: 0.48.0 Command: /home/biocbuild/bbs-3.22-bioc/R/bin/R CMD INSTALL pasillaBamSubset StartedAt: 2025-11-13 10:55:15 -0500 (Thu, 13 Nov 2025) EndedAt: 2025-11-13 10:55:17 -0500 (Thu, 13 Nov 2025) EllapsedTime: 1.9 seconds RetCode: 0 Status: OK