Package: pasilla Version: 1.38.0 Command: /home/biocbuild/bbs-3.22-bioc/R/bin/R CMD INSTALL pasilla StartedAt: 2025-11-13 11:00:58 -0500 (Thu, 13 Nov 2025) EndedAt: 2025-11-13 11:01:32 -0500 (Thu, 13 Nov 2025) EllapsedTime: 33.3 seconds RetCode: 0 Status: OK