Package: pasilla Version: 1.38.0 Command: /home/biocbuild/bbs-3.22-bioc/R/bin/R CMD build --keep-empty-dirs --no-resave-data pasilla StartedAt: 2025-11-13 11:35:28 -0500 (Thu, 13 Nov 2025) EndedAt: 2025-11-13 11:36:23 -0500 (Thu, 13 Nov 2025) EllapsedTime: 55.2 seconds RetCode: 0 Status: OK PackageFile: pasilla_1.38.0.tar.gz PackageFileSize: 3.151 MiB