Package: oct4 Version: 1.26.0 Command: /home/biocbuild/bbs-3.22-bioc/R/bin/R CMD build --keep-empty-dirs --no-resave-data oct4 StartedAt: 2025-11-13 11:34:54 -0500 (Thu, 13 Nov 2025) EndedAt: 2025-11-13 11:35:08 -0500 (Thu, 13 Nov 2025) EllapsedTime: 14.3 seconds RetCode: 0 Status: OK PackageFile: oct4_1.26.0.tar.gz PackageFileSize: 192.9 MiB