Package: nullrangesData Version: 1.16.0 Command: /home/biocbuild/bbs-3.22-bioc/R/bin/R CMD INSTALL nullrangesData StartedAt: 2025-11-13 10:58:16 -0500 (Thu, 13 Nov 2025) EndedAt: 2025-11-13 10:58:46 -0500 (Thu, 13 Nov 2025) EllapsedTime: 29.2 seconds RetCode: 0 Status: OK