Package: nullrangesData Version: 1.16.0 Command: /home/biocbuild/bbs-3.22-bioc/R/bin/R CMD build --keep-empty-dirs --no-resave-data nullrangesData StartedAt: 2025-11-13 11:34:41 -0500 (Thu, 13 Nov 2025) EndedAt: 2025-11-13 11:35:27 -0500 (Thu, 13 Nov 2025) EllapsedTime: 46.5 seconds RetCode: 0 Status: OK PackageFile: nullrangesData_1.16.0.tar.gz PackageFileSize: 4.148 MiB