Package: nullrangesData Version: 1.14.0 Command: /home/biocbuild/bbs-3.21-bioc/R/bin/R CMD INSTALL nullrangesData StartedAt: 2025-05-15 10:58:49 -0400 (Thu, 15 May 2025) EndedAt: 2025-05-15 10:59:18 -0400 (Thu, 15 May 2025) EllapsedTime: 29.4 seconds RetCode: 0 Status: OK