Package: multiWGCNAdata Version: 1.8.0 Command: /home/biocbuild/bbs-3.22-bioc/R/bin/R CMD INSTALL multiWGCNAdata StartedAt: 2025-11-13 10:57:34 -0500 (Thu, 13 Nov 2025) EndedAt: 2025-11-13 10:57:43 -0500 (Thu, 13 Nov 2025) EllapsedTime: 8.5 seconds RetCode: 0 Status: OK