Package: multiWGCNAdata Version: 1.8.0 Command: /home/biocbuild/bbs-3.22-bioc/R/bin/R CMD build --keep-empty-dirs --no-resave-data multiWGCNAdata StartedAt: 2025-11-13 11:33:10 -0500 (Thu, 13 Nov 2025) EndedAt: 2025-11-13 11:33:35 -0500 (Thu, 13 Nov 2025) EllapsedTime: 24.6 seconds RetCode: 0 Status: OK PackageFile: multiWGCNAdata_1.8.0.tar.gz PackageFileSize: 221.2 KiB