Package: muleaData Version: 1.6.0 Command: /home/biocbuild/bbs-3.22-bioc/R/bin/R CMD build --keep-empty-dirs --no-resave-data muleaData StartedAt: 2025-11-13 11:33:10 -0500 (Thu, 13 Nov 2025) EndedAt: 2025-11-13 11:33:21 -0500 (Thu, 13 Nov 2025) EllapsedTime: 10.7 seconds RetCode: 0 Status: OK PackageFile: muleaData_1.6.0.tar.gz PackageFileSize: 40.98 KiB